BEGIN:VCALENDAR
VERSION:2.0
PRODID:-//ChamberMaster//Event Calendar 2.0//EN
METHOD:PUBLISH
X-PUBLISHED-TTL:P3D
REFRESH-INTERVAL:P3D
CALSCALE:GREGORIAN
BEGIN:VEVENT
DTSTART:20240828T180000Z
DTEND:20240828T190000Z
X-MICROSOFT-CDO-ALLDAYEVENT:FALSE
SUMMARY:Banking Services
DESCRIPTION:The Banking Services Available for a Small Business module provides an overview of business banking services.
X-ALT-DESC;FMTTYPE=text/html:<span style="color: rgb(68\, 67\, 67)\; font-family: &quot\;Open Sans&quot\;\, &quot\;Source Sans Pro Web&quot\;\, &quot\;Helvetica Neue&quot\;\, Helvetica\, Roboto\, Arial\, sans-serif\; background-color: rgb(249\, 248\, 245)\;">The Banking Services Available for a Small Business module provides an overview of business banking services.</span><br />\n<br />\n&nbsp\;
LOCATION:Virtual: https://us02web.zoom.us/webinar/register/WN_hTn-ua5iRPiGoN4AUCTFww
UID:e.3131.795
SEQUENCE:3
DTSTAMP:20260420T070909Z
URL:http://business.ephcc.org/events/details/banking-services-795
END:VEVENT

END:VCALENDAR
