BEGIN:VCALENDAR
VERSION:2.0
PRODID:-//ChamberMaster//Event Calendar 2.0//EN
METHOD:PUBLISH
X-PUBLISHED-TTL:P3D
REFRESH-INTERVAL:P3D
CALSCALE:GREGORIAN
BEGIN:VEVENT
DTSTART:20240829T230000Z
DTEND:20240830T010000Z
X-MICROSOFT-CDO-ALLDAYEVENT:FALSE
SUMMARY:Business Blend Mixer at Chuy's
DESCRIPTION:JOIN your El Paso Hispanic Chamber of Commerce for our after-hours networking EVENT!! This is a fun and great way to meet members of the Hispanic Chamber and local businesses. There will be food\, drinks\, and prizes!
X-ALT-DESC;FMTTYPE=text/html:<strong style="text-align: center\;">JOIN your&nbsp\;<em>El Paso Hispanic Chamber of Commerce</em>&nbsp\;for our after-hours networking EVENT!! This is a fun and great way to meet members of the Hispanic Chamber and local businesses. There will be food\, drinks\, and prizes!</strong>
LOCATION:Chuy's 8889 Gateway West Blvd # 1500 El Paso\, Tx\, 79925
UID:e.3131.797
SEQUENCE:3
DTSTAMP:20260422T085529Z
URL:http://business.ephcc.org/events/details/business-blend-mixer-at-chuy-s-797
END:VEVENT

END:VCALENDAR
