BEGIN:VCALENDAR
VERSION:2.0
PRODID:-//ChamberMaster//Event Calendar 2.0//EN
METHOD:PUBLISH
X-PUBLISHED-TTL:P3D
REFRESH-INTERVAL:P3D
CALSCALE:GREGORIAN
BEGIN:VEVENT
DTSTART:20250228T000000Z
DTEND:20250228T023000Z
X-MICROSOFT-CDO-ALLDAYEVENT:FALSE
SUMMARY:Business Blend Mixer Sponsored by Evolve7 Digital Media\, LLC
DESCRIPTION:JOIN your El Paso Hispanic Chamber of Commerce for our after-hours networking EVENT!! This is a fun and great way to meet members of the Hispanic Chamber and to expand your network. \n\nCome and join us for a great network\, and drinks!!
X-ALT-DESC;FMTTYPE=text/html:<div style="text-align: center\;"><strong>JOIN your <em>El Paso Hispanic Chamber of Commerce</em> for our after-hours networking EVENT!! This is a fun and great way to meet members of the Hispanic Chamber and to expand your network.&nbsp\;<br />\nCome and join us for a great network\, and drinks!!</strong></div>\n
LOCATION:522 W San Antonio\, Ste 201 El Paso Tx 79901
UID:e.3131.810
SEQUENCE:3
DTSTAMP:20260419T210857Z
URL:http://business.ephcc.org/events/details/business-blend-mixer-sponsored-by-evolve7-digital-media-llc-810
END:VEVENT

END:VCALENDAR
