BEGIN:VCALENDAR
VERSION:2.0
PRODID:-//ChamberMaster//Event Calendar 2.0//EN
METHOD:PUBLISH
X-PUBLISHED-TTL:P3D
REFRESH-INTERVAL:P3D
CALSCALE:GREGORIAN
BEGIN:VEVENT
DTSTART:20250321T133000Z
DTEND:20250321T153000Z
X-MICROSOFT-CDO-ALLDAYEVENT:FALSE
SUMMARY:Cafe & Pan Dulce
DESCRIPTION:Unlock the Power of Networking with the El Paso Hispanic Chamber of Commerce!\n\nJoin us for unmatched opportunities to connect\, collaborate\, and grow with the best in the Southwest! Build valuable relationships\, discover new business opportunities\, and take your network to the next level.\n\nA Free Discovery Audit of $500 value\, to each attendee! This is an in-depth look at your day-to-day operations to pinpoint hidden bottlenecks\, highlight potential revenue streams\, and unveil how you can go further\, faster. Think of it as your personalized 'blueprint' for stronger\, more profitable business practices."\n\n\n\nAnd   if you are looking to make a real difference for the El Paso business community? Consider sponsoring a Chamber membership for $400 and change someone's future. NuTech Advisors will match your generosity with a powerful '5X solution' their way of saying thank you for investing in local growth.\n\n\n\nJoin us in helping more small businesses reach their full potential!
X-ALT-DESC;FMTTYPE=text/html:<span style="background-image:initial\;background-position:initial\;background-size:initial\;background-repeat:initial\;background-attachment:initial\;background-origin:initial\;background-clip:initial\;"><span style="color:black\;"><span style="font-family:segoe ui\,sans-serif\;"><span style="font-size:10.5pt\;">Unlock the Power of Networking with the El Paso Hispanic Chamber of Commerce!</span></span></span></span><br />\n<span style="color:black\;"><span style="font-family:segoe ui\,sans-serif\;"><span style="font-size:10.5pt\;"><span style="background-image:initial\;background-position:initial\;background-size:initial\;background-repeat:initial\;background-attachment:initial\;background-origin:initial\;background-clip:initial\;">Join us for unmatched opportunities to connect\, collaborate\, and grow with the best in the Southwest! Build valuable relationships\, discover new business opportunities\, and take your network to the next level.</span></span></span></span><br />\n<strong><em><span style="background:white\;"><span style="color:black\;"><span style="font-family:segoe ui\,sans-serif\;"><span style="font-size:10.5pt\;">A Free Discovery Audit of $500 value\, to each attendee! This is an in-depth look at your day-to-day operations to pinpoint hidden bottlenecks\, highlight potential revenue streams\, and unveil how you can go further\, faster. Think of it as your personalized &lsquo\;blueprint&rsquo\; for stronger\, more profitable business practices.&rdquo\;</span></span></span></span></em></strong><br />\n<br />\n<strong><em><span style="color:black\;"><span style="font-family:segoe ui\,sans-serif\;"><span style="font-size:10.5pt\;"><span style="background:white\;">And &hellip\; if you are looking to make a real difference for the El Paso business community? Consider sponsoring a Chamber membership for $400 and change someone&rsquo\;s future. NuTech Advisors will match your generosity with a powerful &lsquo\;5X solution&rsquo\;&mdash\;their way of saying thank you for investing in local growth.</span><br />\n<br />\n<span style="background:white\;">Join us in helping more small businesses reach their full potential!</span></span></span></span></em></strong><br />\n<br />\n<br />\n<br />\n&nbsp\;
LOCATION:4141 Pinnacle St #120 El Paso\, Tx 79902 Sponsored by: NuTech Advisors
UID:e.3131.819
SEQUENCE:3
DTSTAMP:20260419T192755Z
URL:http://business.ephcc.org/events/details/cafe-pan-dulce-819
END:VEVENT

END:VCALENDAR
