BEGIN:VCALENDAR
VERSION:2.0
PRODID:-//ChamberMaster//Event Calendar 2.0//EN
METHOD:PUBLISH
X-PUBLISHED-TTL:P3D
REFRESH-INTERVAL:P3D
CALSCALE:GREGORIAN
BEGIN:VEVENT
DTSTART:20250124T143000Z
DTEND:20250124T170000Z
X-MICROSOFT-CDO-ALLDAYEVENT:FALSE
SUMMARY:Cafe Pan Dulce - Sponsor CCBM WBCC Broadcast
DESCRIPTION:Engage with the El Paso Hispanic Chamber of Commerce for the best networking event in the Southwest!\n\nCome and enjoy great network and delicious Pan Dulce.
X-ALT-DESC;FMTTYPE=text/html:Engage with the El Paso Hispanic Chamber of Commerce for the best networking event in the Southwest!<br />\nCome and enjoy great network and delicious Pan Dulce.<br />\n&nbsp\;
LOCATION:4141 Pinnacle Suite 120
UID:e.3131.803
SEQUENCE:3
DTSTAMP:20260419T230417Z
URL:http://business.ephcc.org/events/details/cafe-pan-dulce-sponsor-ccbm-wbcc-broadcast-803
END:VEVENT

END:VCALENDAR
