BEGIN:VCALENDAR
VERSION:2.0
PRODID:-//ChamberMaster//Event Calendar 2.0//EN
METHOD:PUBLISH
X-PUBLISHED-TTL:P3D
REFRESH-INTERVAL:P3D
CALSCALE:GREGORIAN
BEGIN:VEVENT
DTSTART:20240726T133000Z
DTEND:20240726T160000Z
X-MICROSOFT-CDO-ALLDAYEVENT:FALSE
SUMMARY:Cafe y pan Dulce Sponsored by Aro Med Spa
DESCRIPTION:Join your El Paso Hispanic Chamber of Commerce of the best networking in the southwest. Our next event is sponsored by Aro Med Spa!
X-ALT-DESC;FMTTYPE=text/html:Join your El Paso Hispanic Chamber of Commerce of the best networking in the southwest. Our next event is sponsored by Aro Med Spa!
LOCATION:4141 Pinnacle Suite 120
UID:e.3131.790
SEQUENCE:3
DTSTAMP:20260420T092903Z
URL:http://business.ephcc.org/events/details/cafe-y-pan-dulce-sponsored-by-aro-med-spa-790
END:VEVENT

END:VCALENDAR
