BEGIN:VCALENDAR
VERSION:2.0
PRODID:-//ChamberMaster//Event Calendar 2.0//EN
METHOD:PUBLISH
X-PUBLISHED-TTL:P3D
REFRESH-INTERVAL:P3D
CALSCALE:GREGORIAN
BEGIN:VEVENT
DTSTART:20250603T173000Z
DTEND:20250603T193000Z
X-MICROSOFT-CDO-ALLDAYEVENT:FALSE
SUMMARY:CEO Roundtable Focusing in Construction
DESCRIPTION:The CEO Roundtable in Construction is a powerful gathering of leaders.  This event promotes collaboration\, discussion\, and networking.  Focusing on leadership\, business growth\, and overcoming challenges.  It offers executives and entrepreneurs the chance to share insights\, build connections\, and empower one another in their professional journey's.\n\nSpeakers: Marlene Cervantes (J Carrizal)\, Enrique Garcia ( Alliance Construction Contractors)\, Raymundo Morales (Lobo Federal Services)\, Juan Villalobos (Efficio Construction)\, Luis Luna (Senergy)\, Jeremy Morkovsky (Hensel Phelps)\, Joaquin Royo (Ztech)
X-ALT-DESC;FMTTYPE=text/html:The CEO Roundtable in Construction is a powerful gathering of leaders.&nbsp\; This event promotes collaboration\, discussion\, and networking.&nbsp\; Focusing on leadership\, business growth\, and overcoming challenges.&nbsp\; It offers executives and entrepreneurs the chance to share insights\, build connections\, and empower one another in their professional journey&#39\;s.<br />\nSpeakers: Marlene Cervantes (J Carrizal)\, Enrique Garcia ( Alliance Construction Contractors)\, Raymundo Morales (Lobo Federal Services)\, Juan Villalobos (Efficio Construction)\, Luis Luna (Senergy)\, Jeremy Morkovsky (Hensel Phelps)\, Joaquin Royo (Ztech)<br />\n&nbsp\;
LOCATION:Holiday Inn El Paso West-Sunland Park 900 Sunland Park Dr. El Paso\, Texas 79902
UID:e.3131.830
SEQUENCE:3
DTSTAMP:20260419T132515Z
URL:http://business.ephcc.org/events/details/ceo-roundtable-focusing-in-construction-830
END:VEVENT

END:VCALENDAR
