BEGIN:VCALENDAR
VERSION:2.0
PRODID:-//ChamberMaster//Event Calendar 2.0//EN
METHOD:PUBLISH
X-PUBLISHED-TTL:P3D
REFRESH-INTERVAL:P3D
CALSCALE:GREGORIAN
BEGIN:VEVENT
DTSTART:20241211T230000Z
DTEND:20241212T020000Z
X-MICROSOFT-CDO-ALLDAYEVENT:FALSE
SUMMARY:Christmas Mercado
DESCRIPTION:Come and celebrate with us the Spirit of Christmas. We are hosting a great event to showcase your business and connect with Holiday Shoppers. Invite Family\, Friends for a Fun-Filled festive Mercado Experience.\n\n\n\nWe are having 30+ vendors\, Loteria\, entertainment and much more!!!\n\n\n\nVendor table Information:\n\nMembers $50\n\nNon-Member $75\n\n\n\nAttendees FREE
X-ALT-DESC;FMTTYPE=text/html:Come and celebrate with us the Spirit of Christmas. We are hosting a great event to showcase your business and connect with Holiday Shoppers. Invite Family\, Friends for a Fun-Filled festive Mercado Experience.<br />\n<br />\nWe are having 30+ vendors\, Loteria\, entertainment and much more!!!<br />\n<br />\nVendor table Information:<br />\nMembers $50<br />\nNon-Member $75<br />\n<br />\n<strong>Attendees FREE</strong>
LOCATION:The Shoppes at Solana 750 Sunland Park Dr. El Paso\, TX 79912
UID:e.3131.802
SEQUENCE:3
DTSTAMP:20260420T003136Z
URL:http://business.ephcc.org/events/details/christmas-mercado-802
END:VEVENT

END:VCALENDAR
