BEGIN:VCALENDAR
VERSION:2.0
PRODID:-//ChamberMaster//Event Calendar 2.0//EN
METHOD:PUBLISH
X-PUBLISHED-TTL:P3D
REFRESH-INTERVAL:P3D
CALSCALE:GREGORIAN
BEGIN:VEVENT
DTSTART:20240724T210000Z
DTEND:20240724T230000Z
X-MICROSOFT-CDO-ALLDAYEVENT:FALSE
SUMMARY:Dynamic Women to Women
DESCRIPTION:Join us at this networking event\, to network and meet local entrepreneurs. At the end we will have fun activity of candle making & flower decorations. Come and support small businesses.
X-ALT-DESC;FMTTYPE=text/html:<span class="OYPEnA text-decoration-none text-strikethrough-none">Join us at this networking event\, to network and meet local entrepreneurs.</span><span class="OYPEnA text-decoration-none text-strikethrough-none white-space-prewrap"> </span><span class="OYPEnA text-decoration-none text-strikethrough-none">At the end we will have fun activity of candle making &amp\; flower decorations. Come and support small businesses.</span>
LOCATION:Debbie's Bloomers 1580 George Dieter Dr. Ste. 401 El Paso\, Texas 79936
UID:e.3131.789
SEQUENCE:3
DTSTAMP:20260422T085630Z
URL:http://business.ephcc.org/events/details/dynamic-women-to-women-789
END:VEVENT

END:VCALENDAR
