BEGIN:VCALENDAR
VERSION:2.0
PRODID:-//ChamberMaster//Event Calendar 2.0//EN
METHOD:PUBLISH
X-PUBLISHED-TTL:P3D
REFRESH-INTERVAL:P3D
CALSCALE:GREGORIAN
BEGIN:VEVENT
DTSTART:20250227T183000Z
DTEND:20250227T200000Z
X-MICROSOFT-CDO-ALLDAYEVENT:FALSE
SUMMARY:Dynamic Women to Women
DESCRIPTION:A forum for business owners and professionals to come together to network\, discuss challenges and celebrate successes.   A chance to network with other aspiring and established entrepreneurs\, fostering relationships that can lead to collaborations and partnerships.
X-ALT-DESC;FMTTYPE=text/html:<span style="font-size:12px\;"><span style="font-family:times new roman\;"><span style="color:#1F497D\;">&nbsp\;</span></span></span><span style="color:#1F497D\;"><span style="font-family:calibri\,sans-serif\;"><span style="font-size:14.0pt\;"><span style="font-size:12px\;"><span style="font-family:times new roman\;">A forum for business owners and professionals to come together to network\, discuss challenges and celebrate successes.&nbsp\;&nbsp\; A chance to network with other aspiring and established entrepreneurs\, fostering relationships that can lead to collaborations and partnerships.&nbsp\;</span></span> </span></span></span><br />\n&nbsp\;<br />\n&nbsp\;
LOCATION:EPCC Administrative Building Auditorium 9050 Viscount Building A 79925
UID:e.3131.809
SEQUENCE:3
DTSTAMP:20260419T210856Z
URL:http://business.ephcc.org/events/details/dynamic-women-to-women-809
END:VEVENT

END:VCALENDAR
