BEGIN:VCALENDAR
VERSION:2.0
PRODID:-//ChamberMaster//Event Calendar 2.0//EN
METHOD:PUBLISH
X-PUBLISHED-TTL:P3D
REFRESH-INTERVAL:P3D
CALSCALE:GREGORIAN
BEGIN:VEVENT
DTSTART:20240821T180000Z
DTEND:20240821T190000Z
X-MICROSOFT-CDO-ALLDAYEVENT:FALSE
SUMMARY:Financial Literacy in Spanish
DESCRIPTION:Este seminario virtual proporciona una introducci n a temas relacionados con el inicio y la gesti n de un negocio.\n\nLo que vas a aprender:\n\nMejora de su relaci n con los bancos y posibilidades de conseguir un pr stamo.\n\nEvitar fraudes/estafas en peque as negocios.\n\nTipos de opciones de financiaci n y prestamistas.
X-ALT-DESC;FMTTYPE=text/html:<span style="color: rgb(0\, 0\, 0)\; font-family: Figtree\; font-size: 16px\;">Este seminario virtual proporciona una introducci&oacute\;n a temas relacionados con el inicio y la gesti&oacute\;n de un negocio.</span><br style="color: rgb(0\, 0\, 0)\; font-family: Figtree\; font-size: 16px\;" />\n<span style="color: rgb(0\, 0\, 0)\; font-family: Figtree\; font-size: 16px\;">Lo que vas a aprender:</span><br style="color: rgb(0\, 0\, 0)\; font-family: Figtree\; font-size: 16px\;" />\n<span style="color: rgb(0\, 0\, 0)\; font-family: Figtree\; font-size: 16px\;">Mejora de su relaci&oacute\;n con los bancos y posibilidades de conseguir un pr&eacute\;stamo.</span><br style="color: rgb(0\, 0\, 0)\; font-family: Figtree\; font-size: 16px\;" />\n<span style="color: rgb(0\, 0\, 0)\; font-family: Figtree\; font-size: 16px\;">Evitar fraudes/estafas en peque&ntilde\;as negocios.</span><br style="color: rgb(0\, 0\, 0)\; font-family: Figtree\; font-size: 16px\;" />\n<span style="color: rgb(0\, 0\, 0)\; font-family: Figtree\; font-size: 16px\;">Tipos de opciones de financiaci&oacute\;n y prestamistas.</span>
LOCATION:Virtual Register in advance for this webinar: https://us02web.zoom.us/webinar/register/WN_xUwwHPBaR9moSxVQPgVSQQ
UID:e.3131.794
SEQUENCE:3
DTSTAMP:20260420T071138Z
URL:http://business.ephcc.org/events/details/financial-literacy-in-spanish-794
END:VEVENT

END:VCALENDAR
