BEGIN:VCALENDAR
VERSION:2.0
PRODID:-//ChamberMaster//Event Calendar 2.0//EN
METHOD:PUBLISH
X-PUBLISHED-TTL:P3D
REFRESH-INTERVAL:P3D
CALSCALE:GREGORIAN
BEGIN:VEVENT
DTSTART;VALUE=DATE:20250416
DTEND;VALUE=DATE:20250418
TRANSP:TRANSPARENT
X-MICROSOFT-CDO-ALLDAYEVENT:TRUE
SUMMARY:OUR PARTNERS AT WORKFORCE SOLUTIONS WANT TO HEAR FROM YOU!
DESCRIPTION:Member Alert!  \n\nOur Partner\, Workforce Solutions wants to hear from you!  Please take 3 minutes to complete this survey!  Click on the LINK or the QR to take you to the survey!\n\n \n\nHere's the link:\n\nhttps://wkf.ms/4chXi2G\n\n \n\nWhat a difference a year makes!\n\n\n\n \n\nWe would like your thoughts on economic conditions\, especially the impact of current tariff and tax issues\, in our April 2025 business survey!\n\n\n\nFor results of past surveys contact phillip.morales@borderplexjobs.com\n\n \n\n \n\nPlease help out our fellow board member\, Phillip Morales\, by completing the survey by the end of today!
X-ALT-DESC;FMTTYPE=text/html:<strong><span style="color:red\;"><span style="font-family:cambria\,serif\;"><span style="font-size:20.0pt\;">Member Alert! &nbsp\;</span></span></span></strong><br />\n<span style="font-family:cambria\,serif\;"><span style="font-size:14.0pt\;">Our Partner\, Workforce Solutions wants to hear from you!&nbsp\; Please take 3 minutes to complete this survey!&nbsp\; Click on the LINK or the QR to take you to the survey!</span></span><br />\n&nbsp\;<br />\n<strong><span style="font-family:cambria\,serif\;"><span style="font-size:18.0pt\;">Here&rsquo\;s the link:</span></span></strong><br />\n<a href="https://wkf.ms/4chXi2G"><strong><span style="font-family:cambria\,serif\;"><span style="font-size:18.0pt\;">https://wkf.ms/4chXi2G</span></span></strong></a><br />\n&nbsp\;<br />\n<strong><span style="font-family:arial black\,sans-serif\;"><span style="font-size:18.0pt\;">What a difference a year makes!</span></span></strong><br />\n<br />\n&nbsp\;<br />\n<strong><span style="font-family:arial black\,sans-serif\;"><span style="font-size:18.0pt\;">We would like your thoughts on economic conditions\, especially the impact of current tariff and tax issues\, in our April 2025 business survey!</span></span></strong><br />\n<br />\n<strong><span style="font-family:arial\,sans-serif\;"><span style="font-size:18.0pt\;">For results of past surveys contact </span></span></strong><a href="mailto:phillip.morales@borderplexjobs.com"><strong><span style="font-family:arial\,sans-serif\;"><span style="font-size:18.0pt\;">phillip.morales@borderplexjobs.com</span></span></strong></a><br />\n&nbsp\;<br />\n&nbsp\;<br />\n<strong><span style="color:red\;"><span style="font-family:cambria\,serif\;"><span style="font-size:14.0pt\;">Please help out our fellow board member\, Phillip Morales\, by completing the survey by the end of today!</span></span></span></strong>
LOCATION:
UID:e.3131.825
SEQUENCE:3
DTSTAMP:20260419T173739Z
URL:http://business.ephcc.org/events/details/our-partners-at-workforce-solutions-want-to-hear-from-you-825
END:VEVENT

END:VCALENDAR
