BEGIN:VCALENDAR
VERSION:2.0
PRODID:-//ChamberMaster//Event Calendar 2.0//EN
METHOD:PUBLISH
X-PUBLISHED-TTL:P3D
REFRESH-INTERVAL:P3D
CALSCALE:GREGORIAN
BEGIN:VEVENT
DTSTART:20250211T160000Z
DTEND:20250211T173000Z
X-MICROSOFT-CDO-ALLDAYEVENT:FALSE
SUMMARY:SBA Wills
DESCRIPTION:The Small Business Administration-El Paso District Office will be providing a 3-part series of important training sessions on Wills\, Business Succession\, and Estates Planning for small businesses.
X-ALT-DESC;FMTTYPE=text/html:The Small Business Administration-El Paso District Office will be providing a 3-part series of important training sessions on Wills\, Business Succession\, and Estates Planning for small businesses.
LOCATION:EPHCC Training Center 4141 Pinnacle St.\, Ste. 120\, El Paso\, TX 79902
UID:e.3131.808
SEQUENCE:3
DTSTAMP:20260419T210651Z
URL:http://business.ephcc.org/events/details/sba-wills-808
END:VEVENT

END:VCALENDAR
