BEGIN:VCALENDAR
VERSION:2.0
PRODID:-//ChamberMaster//Event Calendar 2.0//EN
METHOD:PUBLISH
X-PUBLISHED-TTL:P3D
REFRESH-INTERVAL:P3D
CALSCALE:GREGORIAN
BEGIN:VEVENT
DTSTART:20250423T143000Z
DTEND:20250423T160000Z
X-MICROSOFT-CDO-ALLDAYEVENT:FALSE
SUMMARY:Winning Wednesday
DESCRIPTION:Winning Wednesday\; How to do Business with the City of El Paso! \n\nUnlock new contract opportunities!
X-ALT-DESC;FMTTYPE=text/html:Winning Wednesday\; How to do Business with the City of El Paso!&nbsp\;<br />\nUnlock new contract opportunities!&nbsp\;
LOCATION:Virtual: https://teams.microsoft.com/l/meetup-join/19%3ameeting_NDVmNTJmNzktMjAzZC00YmEyLWJhNjctNDhiZDQyY2E0OGNm%40thread.v2/0?context=%7b%22Tid%22%3a%22c29a4ece-cc97-443b-9d9b-1f50c01d2104%22%2c%22Oid%22%3a%22e260c732-90be-4d3b-90c4-fd749be3a371%22%7d
UID:e.3131.824
SEQUENCE:3
DTSTAMP:20260419T173605Z
URL:http://business.ephcc.org/events/details/winning-wednesday-824
END:VEVENT

END:VCALENDAR
