BEGIN:VCALENDAR
VERSION:2.0
PRODID:-//ChamberMaster//Event Calendar 2.0//EN
METHOD:PUBLISH
X-PUBLISHED-TTL:P3D
REFRESH-INTERVAL:P3D
CALSCALE:GREGORIAN
BEGIN:VEVENT
DTSTART:20250312T170000Z
DTEND:20250312T193000Z
X-MICROSOFT-CDO-ALLDAYEVENT:FALSE
SUMMARY:Women Roundtable CEO
DESCRIPTION:Join us for a speed networking opportunity with 5 women CEO's:\n\n	Martha Dickason- DM Dickason Services\n	Isabel Placencia - Toro Food Imports\n	Laura Ramos - Atlantis Behavioral Health Services\n	Tracy Yellen - Paso Del Norte Community Foundation\n	Gina Martinez- La Nube\n\nLunch will be provided!!
X-ALT-DESC;FMTTYPE=text/html:Join us for a speed networking opportunity with 5 women CEO&#39\;s:\n<ul>\n	<li>Martha Dickason- DM Dickason Services</li>\n	<li>Isabel Placencia - Toro Food Imports</li>\n	<li>Laura Ramos - Atlantis Behavioral Health Services</li>\n	<li>Tracy Yellen - Paso Del Norte Community Foundation</li>\n	<li>Gina Martinez- La Nube</li>\n</ul>\nLunch will be provided!!&nbsp\;
LOCATION:900 Sunland Park Drive El Paso\, Texas 79922
UID:e.3131.816
SEQUENCE:3
DTSTAMP:20260419T210722Z
URL:http://business.ephcc.org/events/details/women-roundtable-ceo-816
END:VEVENT

END:VCALENDAR
