BEGIN:VCALENDAR
VERSION:2.0
PRODID:-//ChamberMaster//Event Calendar 2.0//EN
METHOD:PUBLISH
X-PUBLISHED-TTL:P3D
REFRESH-INTERVAL:P3D
CALSCALE:GREGORIAN
BEGIN:VEVENT
DTSTART:20250327T160000Z
DTEND:20250327T170000Z
X-MICROSOFT-CDO-ALLDAYEVENT:FALSE
SUMMARY:Women's Leadership Series: #2 Make It Happen- Driving Business Results Through Behavior Change
DESCRIPTION:Focusing on how to align behaviors with business results and ensure ongoing success.
X-ALT-DESC;FMTTYPE=text/html:<span style="font-family:tahoma\,sans-serif\;">Focusing on how to align behaviors with business results and ensure ongoing success.</span><br />\n&nbsp\;
LOCATION:Zoom: https://us02web.zoom.us/webinar/register/WN_qFvmcw2iQL-KaQVHYlnhXg
UID:e.3131.818
SEQUENCE:3
DTSTAMP:20260419T193219Z
URL:http://business.ephcc.org/events/details/women-s-leadership-series-2-make-it-happen-driving-business-results-through-behavior-change-818
END:VEVENT

END:VCALENDAR
