BEGIN:VCALENDAR
VERSION:2.0
PRODID:-//ChamberMaster//Event Calendar 2.0//EN
METHOD:PUBLISH
X-PUBLISHED-TTL:P3D
REFRESH-INTERVAL:P3D
CALSCALE:GREGORIAN
BEGIN:VEVENT
DTSTART:20240716T153000Z
DTEND:20240716T170000Z
X-MICROSOFT-CDO-ALLDAYEVENT:FALSE
SUMMARY:Work For Yourself @50+
DESCRIPTION:Show us what you got!\n\nPut your 50 years of experience to work.  The two-hour Work for YourSelf @50+ workshop will help you decide if the self-employment journey is right for you.
X-ALT-DESC;FMTTYPE=text/html:Show us what you got!<br />\nPut your 50 years of experience to work.&nbsp\; The two-hour Work for YourSelf @50+ workshop will help you decide if the self-employment journey is right for you.
LOCATION:Virtual event: https://us02web.zoom.us/webinar/register/WN_UH-4mwOkS-i6VvG7lpZmig
UID:e.3131.788
SEQUENCE:3
DTSTAMP:20260422T085027Z
URL:http://business.ephcc.org/events/details/work-for-yourself-50-788
END:VEVENT

END:VCALENDAR
