BEGIN:VCALENDAR
VERSION:2.0
PRODID:-//ChamberMaster//Event Calendar 2.0//EN
METHOD:PUBLISH
X-PUBLISHED-TTL:P3D
REFRESH-INTERVAL:P3D
CALSCALE:GREGORIAN
BEGIN:VEVENT
DTSTART:20240723T143000Z
DTEND:20240723T153000Z
X-MICROSOFT-CDO-ALLDAYEVENT:FALSE
SUMMARY:Work For Yourself at 50+ Spanish Session
DESCRIPTION:Thinking on starting your own business .  We can guide you through this maze.
X-ALT-DESC;FMTTYPE=text/html:Thinking on starting your own business .&nbsp\; We can guide you through this maze.
LOCATION:Virtual https://us02web.zoom.us/webinar/register/WN_Pm6XbulLThW1Yl2qxxM-Sw
UID:e.3131.792
SEQUENCE:3
DTSTAMP:20260422T092106Z
URL:http://business.ephcc.org/events/details/work-for-yourself-at-50-spanish-session-792
END:VEVENT

END:VCALENDAR
